BEGIN:VCALENDAR
VERSION:2.0
PRODID:-//S&amp;S Insurance Group - ECPv6.15.20//NONSGML v1.0//EN
CALSCALE:GREGORIAN
METHOD:PUBLISH
X-ORIGINAL-URL:https://ssinsurancegroup.com
X-WR-CALDESC:Events for S&amp;S Insurance Group
REFRESH-INTERVAL;VALUE=DURATION:PT1H
X-Robots-Tag:noindex
X-PUBLISHED-TTL:PT1H
BEGIN:VTIMEZONE
TZID:America/Chicago
BEGIN:DAYLIGHT
TZOFFSETFROM:-0600
TZOFFSETTO:-0500
TZNAME:CDT
DTSTART:20250309T080000
END:DAYLIGHT
BEGIN:STANDARD
TZOFFSETFROM:-0500
TZOFFSETTO:-0600
TZNAME:CST
DTSTART:20251102T070000
END:STANDARD
BEGIN:DAYLIGHT
TZOFFSETFROM:-0600
TZOFFSETTO:-0500
TZNAME:CDT
DTSTART:20260308T080000
END:DAYLIGHT
BEGIN:STANDARD
TZOFFSETFROM:-0500
TZOFFSETTO:-0600
TZNAME:CST
DTSTART:20261101T070000
END:STANDARD
BEGIN:DAYLIGHT
TZOFFSETFROM:-0600
TZOFFSETTO:-0500
TZNAME:CDT
DTSTART:20270314T080000
END:DAYLIGHT
BEGIN:STANDARD
TZOFFSETFROM:-0500
TZOFFSETTO:-0600
TZNAME:CST
DTSTART:20271107T070000
END:STANDARD
END:VTIMEZONE
BEGIN:VEVENT
DTSTART;TZID=America/Chicago:20260224T183000
DTEND;TZID=America/Chicago:20260224T193000
DTSTAMP:20260423T183259
CREATED:20260128T153004Z
LAST-MODIFIED:20260218T192824Z
UID:1625-1771957800-1771961400@ssinsurancegroup.com
SUMMARY:Navigating Retirement During Inflation and Tax Changes
DESCRIPTION:This educational seminar offers insight into strategies that can help you make informed decisions to safeguard your nest egg\, navigate recent tax changes\, and ensure your finances keep pace with the cost of living. Please note: This seminar is educational in nature and will focus on information — there is no cost to attend\, and nothing will be sold. It’s an opportunity to broaden your understanding of retirement planning strategies for 2026 and beyond\, so you can make well-informed decisions for your family’s future in the new year. \nREGISTER FOR THE EVENT HERE\nNo specific tax advice is given in this class. Instead\, the focus is on helping you see the system clearly\, recognize avoidable tax traps\, and understand where planning conversations matter most. \nThis class is ideal for retirees and pre-retirees who want to explore legitimate ways to reduce taxes in retirement and are interested in having a personal planning conversation to identify what may apply to their situation.
URL:https://ssinsurancegroup.com/events/20260224/
LOCATION:Waxahachie Civic Center\, 2000 Civic Center Ln\, Waxahachie\, TX\, 75165\, United States
END:VEVENT
BEGIN:VEVENT
DTSTART;TZID=America/Chicago:20260303T174500
DTEND;TZID=America/Chicago:20260303T184500
DTSTAMP:20260423T183259
CREATED:20241218T161506Z
LAST-MODIFIED:20260204T171141Z
UID:1319-1772559900-1772563500@ssinsurancegroup.com
SUMMARY:Intro to Medicare
DESCRIPTION:Whether you’re facing Medicare decisions for the first time\, or you’re just needing a refresher course\, you’ll want to attend this class to get your questions answered. \nThis class is offered the first Tuesday of each month.
URL:https://ssinsurancegroup.com/events/intro-to-medicare-2/
LOCATION:Nicholas P. Sims Library\, 515 W. Main St\, Waxhachie\, TX\, 75165\, United States
ATTACH;FMTTYPE=image/png:https://ssinsurancegroup.com/wp-content/uploads/2024/06/EDUCATIONAL-EVENT-1-1.png
END:VEVENT
BEGIN:VEVENT
DTSTART;TZID=America/Chicago:20260406T063000
DTEND;TZID=America/Chicago:20260406T193000
DTSTAMP:20260423T183259
CREATED:20260128T211743Z
LAST-MODIFIED:20260128T212317Z
UID:1631-1775457000-1775503800@ssinsurancegroup.com
SUMMARY:Long-Term Care Planning Workshop
DESCRIPTION:
URL:https://ssinsurancegroup.com/events/20260406/
LOCATION:Midlothian Conference Center\, 1 Community Dr\, Midlothian\, TX\, 76065
END:VEVENT
BEGIN:VEVENT
DTSTART;TZID=America/Chicago:20260409T183000
DTEND;TZID=America/Chicago:20260409T193000
DTSTAMP:20260423T183259
CREATED:20260128T212049Z
LAST-MODIFIED:20260203T222834Z
UID:1635-1775759400-1775763000@ssinsurancegroup.com
SUMMARY:Medicare 101
DESCRIPTION:Medicare 101 is a simple\, educational class designed to help you understand how Medicare actually works — without sales pressure or confusing jargon. You’ll learn the basics of Parts A\, B\, C\, and D\, how enrollment works\, common mistakes to avoid\, and how Medicare fits into real-life retirement planning decisions. \nThis class is ideal for those approaching Medicare age\, already enrolled but confused\, or helping a parent navigate the system. The goal isn’t to sell you anything — it’s to give you clarity\, confidence\, and a framework for making informed decisions.
URL:https://ssinsurancegroup.com/events/20260409/
ATTACH;FMTTYPE=image/jpeg:https://ssinsurancegroup.com/wp-content/uploads/2024/07/Medicare101.jpg
END:VEVENT
BEGIN:VEVENT
DTSTART;TZID=America/Chicago:20260519T183000
DTEND;TZID=America/Chicago:20260519T193000
DTSTAMP:20260423T183259
CREATED:20260128T211903Z
LAST-MODIFIED:20260128T211903Z
UID:1633-1779215400-1779219000@ssinsurancegroup.com
SUMMARY:Investing & Retirement
DESCRIPTION:
URL:https://ssinsurancegroup.com/events/investing-retirement/
LOCATION:Midlothian Conference Center\, 1 Community Dr\, Midlothian\, TX\, 76065
END:VEVENT
END:VCALENDAR