BEGIN:VCALENDAR
VERSION:2.0
PRODID:-//S&amp;S Insurance Group - ECPv6.15.20//NONSGML v1.0//EN
CALSCALE:GREGORIAN
METHOD:PUBLISH
X-WR-CALNAME:S&amp;S Insurance Group
X-ORIGINAL-URL:https://ssinsurancegroup.com
X-WR-CALDESC:Events for S&amp;S Insurance Group
REFRESH-INTERVAL;VALUE=DURATION:PT1H
X-Robots-Tag:noindex
X-PUBLISHED-TTL:PT1H
BEGIN:VTIMEZONE
TZID:America/Chicago
BEGIN:DAYLIGHT
TZOFFSETFROM:-0600
TZOFFSETTO:-0500
TZNAME:CDT
DTSTART:20230312T080000
END:DAYLIGHT
BEGIN:STANDARD
TZOFFSETFROM:-0500
TZOFFSETTO:-0600
TZNAME:CST
DTSTART:20231105T070000
END:STANDARD
BEGIN:DAYLIGHT
TZOFFSETFROM:-0600
TZOFFSETTO:-0500
TZNAME:CDT
DTSTART:20240310T080000
END:DAYLIGHT
BEGIN:STANDARD
TZOFFSETFROM:-0500
TZOFFSETTO:-0600
TZNAME:CST
DTSTART:20241103T070000
END:STANDARD
BEGIN:DAYLIGHT
TZOFFSETFROM:-0600
TZOFFSETTO:-0500
TZNAME:CDT
DTSTART:20250309T080000
END:DAYLIGHT
BEGIN:STANDARD
TZOFFSETFROM:-0500
TZOFFSETTO:-0600
TZNAME:CST
DTSTART:20251102T070000
END:STANDARD
BEGIN:DAYLIGHT
TZOFFSETFROM:-0600
TZOFFSETTO:-0500
TZNAME:CDT
DTSTART:20260308T080000
END:DAYLIGHT
BEGIN:STANDARD
TZOFFSETFROM:-0500
TZOFFSETTO:-0600
TZNAME:CST
DTSTART:20261101T070000
END:STANDARD
END:VTIMEZONE
BEGIN:VEVENT
DTSTART;TZID=America/Chicago:20250826T180000
DTEND;TZID=America/Chicago:20250826T200000
DTSTAMP:20260424T093405
CREATED:20250103T191554Z
LAST-MODIFIED:20250806T004422Z
UID:1343-1756231200-1756238400@ssinsurancegroup.com
SUMMARY:Social Security & Medicare: Know Your Options
DESCRIPTION:CLICK HERE TO REGISTER!\nEducate yourself and know your options BEFORE filing for Social Security benefits & Medicare benefits! \nAs you approach retirement\, deciding when and how to claim your Social Security and Medicare benefits – two of the most important decisions you’ll need to make – can be confusing and even overwhelming. With so many options\, it can be difficult to determine the best choices for you and your situation. \nThis course is designed to help you gain a clearer understanding of your options and the factors you should consider BEFORE applying for your benefits. It will also teach you to take an important aerial view of your retirement by exploring how Social Security and Medicare work in coordination with your other benefits and retirement assets. \nWhether you are three months – or four years from retirement – you will learn valuable information that will help you make more educated decisions.
URL:https://ssinsurancegroup.com/events/social-security-medicare-know-your-options-2/
LOCATION:Waxahachie Civic Center\, 2000 Civic Center Ln\, Waxahachie\, TX\, 75165\, United States
ATTACH;FMTTYPE=image/png:https://ssinsurancegroup.com/wp-content/uploads/2025/01/Cofe2.png
END:VEVENT
BEGIN:VEVENT
DTSTART;TZID=America/Chicago:20250825T180000
DTEND;TZID=America/Chicago:20250825T200000
DTSTAMP:20260424T093406
CREATED:20250103T190823Z
LAST-MODIFIED:20250806T004239Z
UID:1339-1756144800-1756152000@ssinsurancegroup.com
SUMMARY:Social Security & Medicare: Know Your Options
DESCRIPTION:CLICK HERE TO REGISTER!\nEducate yourself and know your options BEFORE filing for Social Security benefits & Medicare benefits! \nAs you approach retirement\, deciding when and how to claim your Social Security and Medicare benefits – two of the most important decisions you’ll need to make – can be confusing and even overwhelming. With so many options\, it can be difficult to determine the best choices for you and your situation. \nThis course is designed to help you gain a clearer understanding of your options and the factors you should consider BEFORE applying for your benefits. It will also teach you to take an important aerial view of your retirement by exploring how Social Security and Medicare work in coordination with your other benefits and retirement assets. \nWhether you are three months – or four years from retirement – you will learn valuable information that will help you make more educated decisions.
URL:https://ssinsurancegroup.com/events/social-security-medicare-know-your-options/
LOCATION:Navarro College – Midlothian\, 899 Mount Zion Rd\, Midlothian\, TX\, 76065\, United States
ATTACH;FMTTYPE=image/png:https://ssinsurancegroup.com/wp-content/uploads/2025/01/Cofe2.png
END:VEVENT
BEGIN:VEVENT
DTSTART;TZID=America/Chicago:20240919T180000
DTEND;TZID=America/Chicago:20240919T200000
DTSTAMP:20260424T093406
CREATED:20240726T163834Z
LAST-MODIFIED:20240726T163834Z
UID:1308-1726768800-1726776000@ssinsurancegroup.com
SUMMARY:Understanding Medicare & Social Security
DESCRIPTION:Are you feeling confused or overwhelmed with Medicare and Social Security? This is the class for you! Come learn how to navigate these two programs to get your retirement on the right track.
URL:https://ssinsurancegroup.com/events/understanding-medicare-social-security-2/
LOCATION:Navarro College – Midlothian\, 899 Mount Zion Rd\, Midlothian\, TX\, 76065\, United States
ATTACH;FMTTYPE=image/png:https://ssinsurancegroup.com/wp-content/uploads/2024/07/SS-Medi-1.png
END:VEVENT
BEGIN:VEVENT
DTSTART;TZID=America/Chicago:20240910T180000
DTEND;TZID=America/Chicago:20240910T200000
DTSTAMP:20260424T093406
CREATED:20240726T163719Z
LAST-MODIFIED:20240726T163719Z
UID:1305-1725991200-1725998400@ssinsurancegroup.com
SUMMARY:Understanding Medicare & Social Security
DESCRIPTION:Are you feeling confused or overwhelmed with Medicare and Social Security? This is the class for you! Come learn how to navigate these two programs to get your retirement on the right track.
URL:https://ssinsurancegroup.com/events/understanding-medicare-social-security/
LOCATION:Navarro College – Midlothian\, 899 Mount Zion Rd\, Midlothian\, TX\, 76065\, United States
ATTACH;FMTTYPE=image/png:https://ssinsurancegroup.com/wp-content/uploads/2024/07/SS-Medi.png
END:VEVENT
BEGIN:VEVENT
DTSTART;TZID=America/Chicago:20240827T180000
DTEND;TZID=America/Chicago:20240827T200000
DTSTAMP:20260424T093406
CREATED:20240716T205743Z
LAST-MODIFIED:20240716T205743Z
UID:1295-1724781600-1724788800@ssinsurancegroup.com
SUMMARY:Social Security: Maximize Your Benefits
DESCRIPTION:Deciding when to claim your Social Security benefits is a decision that can have a dramatic impact on your retirement. Don’t miss this opportunity to learn about your claiming options.
URL:https://ssinsurancegroup.com/events/social-security-maximize-your-benefits/
LOCATION:Waxahachie Civic Center\, 2000 Civic Center Ln\, Waxahachie\, TX\, 75165\, United States
ATTACH;FMTTYPE=image/png:https://ssinsurancegroup.com/wp-content/uploads/2024/07/ss-MYB.png
END:VEVENT
BEGIN:VEVENT
DTSTART;TZID=America/Chicago:20240824T130000
DTEND;TZID=America/Chicago:20240824T143000
DTSTAMP:20260424T093406
CREATED:20240716T200741Z
LAST-MODIFIED:20240716T194913Z
UID:1239-1724504400-1724509800@ssinsurancegroup.com
SUMMARY:Medicare Junction: Choosing the Right Track
DESCRIPTION:When it is time to sign up for Medicare\, you will have a lot of choices to make. At this free\, educational workshop\, we’ll breakdown the Medicare Decision Points you’ll face\, helping you make sense of each step so you can get on the right track. \n 
URL:https://ssinsurancegroup.com/events/mj-20240824/
LOCATION:Waxahachie Civic Center\, 2000 Civic Center Ln\, Waxahachie\, TX\, 75165\, United States
ATTACH;FMTTYPE=image/png:https://ssinsurancegroup.com/wp-content/uploads/2024/07/Medicare-Junction-1.png
END:VEVENT
BEGIN:VEVENT
DTSTART;TZID=America/Chicago:20240824T100000
DTEND;TZID=America/Chicago:20240824T120000
DTSTAMP:20260424T093406
CREATED:20240716T205244Z
LAST-MODIFIED:20240716T205244Z
UID:1292-1724493600-1724500800@ssinsurancegroup.com
SUMMARY:Social Security: Maximize Your Benefits
DESCRIPTION:Deciding when to claim your Social Security benefits is a decision that can have a dramatic impact on your retirement. Don’t miss this opportunity to learn about your claiming options.
URL:https://ssinsurancegroup.com/events/ssmyb-20240824/
LOCATION:Waxahachie Civic Center\, 2000 Civic Center Ln\, Waxahachie\, TX\, 75165\, United States
ATTACH;FMTTYPE=image/png:https://ssinsurancegroup.com/wp-content/uploads/2024/07/Red-White-Modern-Weekly-Meeting-Facebook-Post.png
END:VEVENT
BEGIN:VEVENT
DTSTART;TZID=America/Chicago:20240806T174500
DTEND;TZID=America/Chicago:20240806T184500
DTSTAMP:20260424T093406
CREATED:20240716T192117Z
LAST-MODIFIED:20240716T194942Z
UID:1275-1722966300-1722969900@ssinsurancegroup.com
SUMMARY:Intro to Medicare
DESCRIPTION:Whether you’re facing Medicare decisions for the first time\, or you’re just needing a refresher course\, you’ll want to attend this class to get your questions answered. This class is offered the first Tuesday of each month.
URL:https://ssinsurancegroup.com/events/itm-202408/
LOCATION:Nicholas P. Sims Library\, 515 W. Main St\, Waxhachie\, TX\, 75165\, United States
ATTACH;FMTTYPE=image/png:https://ssinsurancegroup.com/wp-content/uploads/2024/06/EDUCATIONAL-EVENT-1-1.png
END:VEVENT
BEGIN:VEVENT
DTSTART;TZID=America/Chicago:20240718T180000
DTEND;TZID=America/Chicago:20240718T193000
DTSTAMP:20260424T093406
CREATED:20240716T201756Z
LAST-MODIFIED:20240722T165932Z
UID:1244-1721325600-1721331000@ssinsurancegroup.com
SUMMARY:Medicare Junction: Choosing the Right Track
DESCRIPTION:When it is time to sign up for Medicare\, you will have a lot of choices to make. At this free\, educational workshop\, we’ll breakdown the Medicare Decision Points you’ll face\, helping you make sense of each step so you can get on the right track. \nNote regarding the facility: Please use the parking lot off of the service road when coming to the Navarro campus.
URL:https://ssinsurancegroup.com/events/mf-20240718/
LOCATION:Navarro College – Midlothian\, 899 Mount Zion Rd\, Midlothian\, TX\, 76065\, United States
ATTACH;FMTTYPE=image/png:https://ssinsurancegroup.com/wp-content/uploads/2024/07/Medicare-Junction-3.png
END:VEVENT
END:VCALENDAR