BEGIN:VCALENDAR
VERSION:2.0
PRODID:-//S&amp;S Insurance Group - ECPv6.15.20//NONSGML v1.0//EN
CALSCALE:GREGORIAN
METHOD:PUBLISH
X-WR-CALNAME:S&amp;S Insurance Group
X-ORIGINAL-URL:https://ssinsurancegroup.com
X-WR-CALDESC:Events for S&amp;S Insurance Group
REFRESH-INTERVAL;VALUE=DURATION:PT1H
X-Robots-Tag:noindex
X-PUBLISHED-TTL:PT1H
BEGIN:VTIMEZONE
TZID:America/Chicago
BEGIN:DAYLIGHT
TZOFFSETFROM:-0600
TZOFFSETTO:-0500
TZNAME:CDT
DTSTART:20250309T080000
END:DAYLIGHT
BEGIN:STANDARD
TZOFFSETFROM:-0500
TZOFFSETTO:-0600
TZNAME:CST
DTSTART:20251102T070000
END:STANDARD
BEGIN:DAYLIGHT
TZOFFSETFROM:-0600
TZOFFSETTO:-0500
TZNAME:CDT
DTSTART:20260308T080000
END:DAYLIGHT
BEGIN:STANDARD
TZOFFSETFROM:-0500
TZOFFSETTO:-0600
TZNAME:CST
DTSTART:20261101T070000
END:STANDARD
BEGIN:DAYLIGHT
TZOFFSETFROM:-0600
TZOFFSETTO:-0500
TZNAME:CDT
DTSTART:20270314T080000
END:DAYLIGHT
BEGIN:STANDARD
TZOFFSETFROM:-0500
TZOFFSETTO:-0600
TZNAME:CST
DTSTART:20271107T070000
END:STANDARD
END:VTIMEZONE
BEGIN:VEVENT
DTSTART;TZID=America/Chicago:20260202T183000
DTEND;TZID=America/Chicago:20260202T193000
DTSTAMP:20260423T182644
CREATED:20260122T193132Z
LAST-MODIFIED:20260128T212142Z
UID:1614-1770057000-1770060600@ssinsurancegroup.com
SUMMARY:Plan Smarter for Tomorrow
DESCRIPTION:In an increasingly complex financial world\, understanding how to preserve what you’ve built and pass it on effectively has never been more important. This educational seminar offers insight into strategies that can help you make informed decisions to protect your family’s future\, reduce potential complications\, and ensure your wishes are honored. \nRSVP HERE:  Plan Smarter for Tomorrow\nWhat You’ll Learn: \n\nPractical approaches to safeguarding your estate and easing the transfer of assets to your loved ones\nWays to help your beneficiaries avoid unnecessary delays\, probate issues\, and asset liquidation\nTechniques to help reduce exposure to estate and income taxes\nHow to protect inheritances from potential threats like creditors or divorce\nInsights into Roth conversion strategies and their role in tax-smart planning\nThe role of retirement accounts\, investment mix\, and risk strategy in multigenerational planning\nCreative tools—like 529 plans—that may offer more than just education funding benefits\nConsiderations for leaving behind values\, not just valuables\n\nWhether you’re planning to support your children\, grandchildren\, or charitable causes\, this session is designed to help you explore options and gain clarity around your long-term goals. The content is especially relevant for households with established retirement savings or investment portfolios. \nThe session is informational in nature and designed to help you better understand your options when it comes to legacy and estate planning. There is no cost to attend\, and nothing will be sold.
URL:https://ssinsurancegroup.com/events/20260202/
LOCATION:Midlothian Conference Center\, 1 Community Dr\, Midlothian\, TX\, 76065
ATTACH;FMTTYPE=image/png:https://ssinsurancegroup.com/wp-content/uploads/2026/01/PSfT-1.png
END:VEVENT
END:VCALENDAR